BEGIN:VCALENDAR
PRODID:-//eluceo/ical//2.0/EN
VERSION:2.0
CALSCALE:GREGORIAN
BEGIN:VEVENT
UID:e2429f2bcea3ad0540643cf5b89bc340
DTSTAMP:20260423T064841Z
SUMMARY:Camp Shomria - Tu B'Shvat Ken
DESCRIPTION:UJA Federation of Greater Toronto\nJewish Toronto Calendar\nhtt
 ps://jewishtoronto.com/calendar/camp-shomria---tu-bshvat-ken-1664676556\n\
 nChildren in grades 1-12 are welcome to join the year round programming of
  Camp Shomria / Hashomer Hatzair in Toronto.  This event requires registra
 tion.  For more details please contact Maydan at shaliach@campshomria.ca
DTSTART;TZID=America/Toronto:20230204T140000
DTEND;TZID=America/Toronto:20230204T160000
END:VEVENT
END:VCALENDAR
