BEGIN:VCALENDAR
PRODID:-//eluceo/ical//2.0/EN
VERSION:2.0
CALSCALE:GREGORIAN
BEGIN:VEVENT
UID:5be2edf29696fe98a423d70d57c16331
DTSTAMP:20260422T112252Z
SUMMARY:Camp Shomria - Pride Ken
DESCRIPTION:UJA Federation of Greater Toronto\nJewish Toronto Calendar\nhtt
 ps://jewishtoronto.com/calendar/camp-shomria---pride-ken-1664677065\n\nChi
 ldren in grades 1-12 are welcome to join the year round programming of Cam
 p Shomria / Hashomer Hatzair in Toronto.  This event requires registration
 .  For more details please contact Maydan at shaliach@campshomria.ca
DTSTART;TZID=America/Toronto:20230527T140000
DTEND;TZID=America/Toronto:20230527T160000
END:VEVENT
END:VCALENDAR
