BEGIN:VCALENDAR
PRODID:-//eluceo/ical//2.0/EN
VERSION:2.0
CALSCALE:GREGORIAN
BEGIN:VEVENT
UID:1e1d8b9fa86ea30abe43ba579fc74837
DTSTAMP:20260425T190328Z
SUMMARY:Camp Shomria - Fall Hike in Toronto
DESCRIPTION:UJA Federation of Greater Toronto\nJewish Toronto Calendar\nhtt
 ps://jewishtoronto.com/calendar/camp-shomria---fall-hike-in-toronto-166467
 6059\n\nChildren in grades 1-12 are welcome to join the year round program
 ming of Camp Shomria / Hashomer Hatzair in Toronto.  This event requires r
 egistration.  For more details please contact Maydan at shaliach@campshomr
 ia.ca
DTSTART;TZID=America/Toronto:20221029T120000
DTEND;TZID=America/Toronto:20221029T140000
END:VEVENT
END:VCALENDAR
