BEGIN:VCALENDAR
PRODID:-//eluceo/ical//2.0/EN
VERSION:2.0
CALSCALE:GREGORIAN
BEGIN:VEVENT
UID:95bb051679de356931e13ff1208c9072
DTSTAMP:20260422T113243Z
SUMMARY:Camp Shalom 75th Anniversary Celebration
DESCRIPTION:UJA Federation of Greater Toronto\nJewish Toronto Calendar\nhtt
 ps://jewishtoronto.com/calendar/camp-shalom-75th-anniversary-celebration-1
 659124750\n\nSee above
DTSTART;TZID=America/Toronto:20230507T130000
DTEND;TZID=America/Toronto:20230507T220000
END:VEVENT
END:VCALENDAR
