BEGIN:VCALENDAR
PRODID:-//eluceo/ical//2.0/EN
VERSION:2.0
CALSCALE:GREGORIAN
BEGIN:VEVENT
UID:8a7ca598834146a1ecdee4934c413198
DTSTAMP:20260425T163512Z
SUMMARY:BTUSY Tu B'Shevat Pickle Making for Grades 6 to 12
DESCRIPTION:UJA Federation of Greater Toronto\nJewish Toronto Calendar\nhtt
 ps://jewishtoronto.com/calendar/btusy-tu-bshevat-pickle-making-for-grades-
 6-to-12-1673883386\n\nTeens and pre-teens in Grades 6-12 are invited a Tu 
 Bishvat celebration featuring a celebration of the trees\, fun\, friends\,
  and of course\, pickle making!\n\nRegister at https://bethtzedectoronto.s
 hulcloud.com/form/tu-bishvat-pickle by Wednesday\, February 1 to reserve y
 our spot!
DTSTART;TZID=America/Toronto:20230205T143000
DTEND;TZID=America/Toronto:20230205T153000
END:VEVENT
END:VCALENDAR
