BEGIN:VCALENDAR
PRODID:-//eluceo/ical//2.0/EN
VERSION:2.0
CALSCALE:GREGORIAN
BEGIN:VEVENT
UID:4967b3e9c614fab088f08fda11ceb927
DTSTAMP:20260425T220831Z
SUMMARY:BT Book & Film Club: Don't Ask by Gina Roitman
DESCRIPTION:UJA Federation of Greater Toronto\nJewish Toronto Calendar\nhtt
 ps://jewishtoronto.com/calendar/bt-book--film-club-dont-ask-by-gina-roitma
 n-1678995544\n\nGina Roitman reviews her novel &quot\;Don&#039\;t Ask\,&qu
 ot\; that poses the question: who packed the suitcase we carry from birth?
  In this literary thriller\, a woman agonizes over her Holocaust Survivor 
 mother’s suicide and is thrown into turmoil over her own attraction to a
  German.\n\nThis session will be offered for both on-site and Zoom partici
 pants. Cost: $15 for in-person\; $10 for online. (Snack will be available 
 prior to the program.) Pre-registration is required for all. To register\,
  visit...
DTSTART;TZID=America/Toronto:20230419T133000
DTEND;TZID=America/Toronto:20230419T150000
END:VEVENT
END:VCALENDAR
