BEGIN:VCALENDAR
PRODID:-//eluceo/ical//2.0/EN
VERSION:2.0
CALSCALE:GREGORIAN
BEGIN:VEVENT
UID:e5206eb73285cde618145b1b46642e05
DTSTAMP:20260423T120113Z
SUMMARY:BNEI AKIVA TORONTO ISRAELI FILM FESTIVAL
DESCRIPTION:UJA Federation of Greater Toronto\nJewish Toronto Calendar\nhtt
 ps://jewishtoronto.com/calendar/bnei-akiva-toronto-israeli-film-festival-1
 686527803\n\nOn Motzei Shabbat\, December 2\, 2023\, Bnei Akiva of Toronto
  is thrilled to return to the theatre for a BAT SNIFF (Saturday Night Isra
 eli Film Festival)! Please join us as we screen award winning Israeli shor
 t films from The Ma’aleh Film School in Jerusalem. The evening will be m
 oderated by a representative /director from the film school\, and followed
  by a reception.
DTSTART;TZID=America/Toronto:20231202T191500
DTEND;TZID=America/Toronto:20231202T221500
END:VEVENT
END:VCALENDAR
