BEGIN:VCALENDAR
PRODID:-//eluceo/ical//2.0/EN
VERSION:2.0
CALSCALE:GREGORIAN
BEGIN:VEVENT
UID:166e9fce16a7cee8b4b03c7c1833851f
DTSTAMP:20260425T014527Z
SUMMARY:Bnei Akiva Toronto Film Event
DESCRIPTION:UJA Federation of Greater Toronto\nJewish Toronto Calendar\nhtt
 ps://jewishtoronto.com/calendar/bnei-akiva-toronto-film-event-1673815961\n
 \nWe will be screening to Israeli Award Winning Films produced by the Maal
 eh Film School as well as featuring a discussion and Q+A by Neta Ariel\, d
 irector of the Maaleh Film School.
DTSTART;TZID=America/Toronto:20230211T200000
DTEND;TZID=America/Toronto:20230211T220000
END:VEVENT
END:VCALENDAR
