BEGIN:VCALENDAR
PRODID:-//eluceo/ical//2.0/EN
VERSION:2.0
CALSCALE:GREGORIAN
BEGIN:VEVENT
UID:365a46fd43362881ebdf13ab00b020f2
DTSTAMP:20260421T074853Z
SUMMARY:Birthright Israel Event
DESCRIPTION:UJA Federation of Greater Toronto\nJewish Toronto Calendar\nhtt
 ps://jewishtoronto.com/calendar/birthright-israel-event-1689610333\n\nBirt
 hright Israel Foundation of Canada Event
DTSTART;TZID=America/Toronto:20230912T170000
DTEND;TZID=America/Toronto:20230912T190000
END:VEVENT
END:VCALENDAR
