BEGIN:VCALENDAR
PRODID:-//eluceo/ical//2.0/EN
VERSION:2.0
CALSCALE:GREGORIAN
BEGIN:VEVENT
UID:326fd7102c65220068fe34ae70b1eafd
DTSTAMP:20260421T021517Z
SUMMARY:Birthright Israel Event
DESCRIPTION:UJA Federation of Greater Toronto\nJewish Toronto Calendar\nhtt
 ps://jewishtoronto.com/calendar/birthright-israel-event-1684341618\n\nBirt
 hright Israel Event
DTSTART;TZID=America/Toronto:20230920T170000
DTEND;TZID=America/Toronto:20230920T190000
END:VEVENT
END:VCALENDAR
