BEGIN:VCALENDAR
PRODID:-//eluceo/ical//2.0/EN
VERSION:2.0
CALSCALE:GREGORIAN
BEGIN:VEVENT
UID:a8abe0c39bcb67c075809b641d7afecf
DTSTAMP:20260421T035616Z
SUMMARY:Birthright Israel Event
DESCRIPTION:UJA Federation of Greater Toronto\nJewish Toronto Calendar\nhtt
 ps://jewishtoronto.com/calendar/birthright-israel-event-1684341541\n\nBirt
 hright Israel event
DTSTART;TZID=America/Toronto:20230919T170000
DTEND;TZID=America/Toronto:20230919T190000
END:VEVENT
END:VCALENDAR
