BEGIN:VCALENDAR
PRODID:-//eluceo/ical//2.0/EN
VERSION:2.0
CALSCALE:GREGORIAN
BEGIN:VEVENT
UID:1891014ca4bda07528c2a585ee2958d3
DTSTAMP:20260424T084526Z
SUMMARY:Beth Tzedec Marquee Event
DESCRIPTION:UJA Federation of Greater Toronto\nJewish Toronto Calendar\nhtt
 ps://jewishtoronto.com/calendar/beth-tzedec-marquee-event-1705604788\n\nWa
 tch for details coming soon.
DTSTART;TZID=America/Toronto:20240414T194500
DTEND;TZID=America/Toronto:20240414T210000
END:VEVENT
END:VCALENDAR
