BEGIN:VCALENDAR
PRODID:-//eluceo/ical//2.0/EN
VERSION:2.0
CALSCALE:GREGORIAN
BEGIN:VEVENT
UID:5c6b61d006749a53e0ee6fbb2539d254
DTSTAMP:20260421T070041Z
SUMMARY:Beth Tzedec Marquee Event
DESCRIPTION:UJA Federation of Greater Toronto\nJewish Toronto Calendar\nhtt
 ps://jewishtoronto.com/calendar/beth-tzedec-marquee-event-1689778570\n\nWa
 tch for details coming soon.
DTSTART;TZID=America/Toronto:20231104T200000
DTEND;TZID=America/Toronto:20231104T220000
END:VEVENT
END:VCALENDAR
