BEGIN:VCALENDAR
PRODID:-//eluceo/ical//2.0/EN
VERSION:2.0
CALSCALE:GREGORIAN
BEGIN:VEVENT
UID:fbe5f6263be925e482d7d591d0f0ec62
DTSTAMP:20260420T185623Z
SUMMARY:Beth Emeth Wierzbniker Society presents: Haskara Annual Memorial
DESCRIPTION:UJA Federation of Greater Toronto\nJewish Toronto Calendar\nhtt
 ps://jewishtoronto.com/calendar/beth-emeth-wierzbniker-society-presents-ha
 skara-annual-memorial-1697040423\n\nBeth Emeth and the Wierzbniker Society
  presents: Haskara Annual Memorial. Commemorating the 81st anniversary of 
 the destruction of Wierzbnik\, Poland and featuring Howard Chandler. Regis
 ter here: beby.org/event/oct29
DTSTART;TZID=America/Toronto:20231029T140000
DTEND;TZID=America/Toronto:20231029T153000
END:VEVENT
END:VCALENDAR
