BEGIN:VCALENDAR
PRODID:-//eluceo/ical//2.0/EN
VERSION:2.0
CALSCALE:GREGORIAN
BEGIN:VEVENT
UID:8cce9c978e1ade35ce34d7ca63791e53
DTSTAMP:20260424T140611Z
SUMMARY:Beth Emeth presents: Wills & Real Estate Issues for Seniors
DESCRIPTION:UJA Federation of Greater Toronto\nJewish Toronto Calendar\nhtt
 ps://jewishtoronto.com/calendar/beth-emeth-presents-wills--real-estate-iss
 ues-for-seniors-1683747542\n\nJoin us IN PERSON as Sheldon Parker\, retire
 d lawyer\, enlightens us with what we should know about Wills\, Power of A
 ttorney\, and Real Estate Issues for Seniors.
DTSTART;TZID=America/Toronto:20230524T193000
DTEND;TZID=America/Toronto:20230524T210000
END:VEVENT
END:VCALENDAR
