BEGIN:VCALENDAR
PRODID:-//eluceo/ical//2.0/EN
VERSION:2.0
CALSCALE:GREGORIAN
BEGIN:VEVENT
UID:bbc718340d17c23430ee1ed217156f6c
DTSTAMP:20260425T111759Z
SUMMARY:Beth Emeth presents: The Great Decline
DESCRIPTION:UJA Federation of Greater Toronto\nJewish Toronto Calendar\nhtt
 ps://jewishtoronto.com/calendar/beth-emeth-presents-the-great-decline-1666
 889456\n\nThe Great Decline: Religious Institutions and their Future prese
 nted by Jennifer and Frank Viti\, Strategic Consultants.
DTSTART;TZID=America/Toronto:20221102T193000
DTEND;TZID=America/Toronto:20221102T211500
END:VEVENT
END:VCALENDAR
