BEGIN:VCALENDAR
PRODID:-//eluceo/ical//2.0/EN
VERSION:2.0
CALSCALE:GREGORIAN
BEGIN:VEVENT
UID:42c4fe25b9a93aab0c764e4651c39b1d
DTSTAMP:20260420T210600Z
SUMMARY:Beth Emeth presents: The Angst of the Jewish Community post October
  7th
DESCRIPTION:UJA Federation of Greater Toronto\nJewish Toronto Calendar\nhtt
 ps://jewishtoronto.com/calendar/beth-emeth-presents-the-angst-of-the-jewis
 h-community-post-october-7th-1716384094\n\nBeth Emeth&#39\;s Continuing Ed
  presents: The Angst of the Jewish Community post October 7th. Featuring R
 abbi Tina Grimberg\, Rabbi Howard Morrison and Rabbi David Korobkin.\n\nRe
 gister here: https://www.beby.org/event/june27
DTSTART;TZID=America/Toronto:20240627T080000
DTEND;TZID=America/Toronto:20240627T213000
END:VEVENT
END:VCALENDAR
