BEGIN:VCALENDAR
PRODID:-//eluceo/ical//2.0/EN
VERSION:2.0
CALSCALE:GREGORIAN
BEGIN:VEVENT
UID:874ffbb1cb3ac7acca65af930e25ad9f
DTSTAMP:20260421T052743Z
SUMMARY:Beth Emeth presents: Sound Advice for a Happy Retirement
DESCRIPTION:UJA Federation of Greater Toronto\nJewish Toronto Calendar\nhtt
 ps://jewishtoronto.com/calendar/beth-emeth-presents-sound-advice-for-a-hap
 py-retirement-1697041369\n\nBEBY Boomers presents: Sounds Advice for a Hap
 py Retirement with guest Sheldon Parker.\n\nBecause life is too short to d
 rink bad wine.\n\nRegister here: beby.org/event/happyretirement
DTSTART;TZID=America/Toronto:20231102T193000
DTEND;TZID=America/Toronto:20231102T211500
END:VEVENT
END:VCALENDAR
