BEGIN:VCALENDAR
PRODID:-//eluceo/ical//2.0/EN
VERSION:2.0
CALSCALE:GREGORIAN
BEGIN:VEVENT
UID:d3e7405531405620c2cd5c86a545a509
DTSTAMP:20260423T033025Z
SUMMARY:Beth Emeth presents: Shir Harmony Choir in Concert
DESCRIPTION:UJA Federation of Greater Toronto\nJewish Toronto Calendar\nhtt
 ps://jewishtoronto.com/calendar/beth-emeth-presents-shir-harmony-choir-in-
 concert-1680278177\n\nBeth Emeth invites you to a night of live music with
  the Shir Harmony Choir!
DTSTART;TZID=America/Toronto:20230426T190000
DTEND;TZID=America/Toronto:20230426T210000
END:VEVENT
END:VCALENDAR
