BEGIN:VCALENDAR
PRODID:-//eluceo/ical//2.0/EN
VERSION:2.0
CALSCALE:GREGORIAN
BEGIN:VEVENT
UID:d4fd75983bbaf9357c38d56db3747e63
DTSTAMP:20260422T222108Z
SUMMARY:Beth Emeth presents: Movement program
DESCRIPTION:UJA Federation of Greater Toronto\nJewish Toronto Calendar\nhtt
 ps://jewishtoronto.com/calendar/beth-emeth-presents-movement-program-16753
 47780\n\nZoom program - Join us for a session of movements you can do anyt
 ime\, anywhere.
DTSTART;TZID=America/Toronto:20230305T103000
DTEND;TZID=America/Toronto:20230305T113000
END:VEVENT
END:VCALENDAR
