BEGIN:VCALENDAR
PRODID:-//eluceo/ical//2.0/EN
VERSION:2.0
CALSCALE:GREGORIAN
BEGIN:VEVENT
UID:ab38a791bd024bf693b43364f797dad9
DTSTAMP:20260422T142958Z
SUMMARY:Beth Emeth presents: Chol Hamoed Pesach with Toronto Jewish Chorus
DESCRIPTION:UJA Federation of Greater Toronto\nJewish Toronto Calendar\nhtt
 ps://jewishtoronto.com/calendar/beth-emeth-presents-chol-hamoed-pesach-wit
 h-toronto-jewish-chorus-1680278050\n\nJoin Beth Emeth for a night of music
  with the Toronto Jewish Chorus.
DTSTART;TZID=America/Toronto:20230410T193000
DTEND;TZID=America/Toronto:20230410T211500
END:VEVENT
END:VCALENDAR
