BEGIN:VCALENDAR
PRODID:-//eluceo/ical//2.0/EN
VERSION:2.0
CALSCALE:GREGORIAN
BEGIN:VEVENT
UID:4fcc618857fe14783a08d5bef5435baa
DTSTAMP:20260420T064813Z
SUMMARY:Beth Emeth presents:  Holocaust Remembrance Event
DESCRIPTION:UJA Federation of Greater Toronto\nJewish Toronto Calendar\nhtt
 ps://jewishtoronto.com/calendar/beth-emeth-presents--holocaust-remembrance
 -event-1698088174\n\nJoin Beth Emeth family for a special program as we re
 flect and honour our past.Register here: beby.org/event/nov12
DTSTART;TZID=America/Toronto:20231112T190000
DTEND;TZID=America/Toronto:20231112T210000
END:VEVENT
END:VCALENDAR
