BEGIN:VCALENDAR
PRODID:-//eluceo/ical//2.0/EN
VERSION:2.0
CALSCALE:GREGORIAN
BEGIN:VEVENT
UID:21140085db1e415c6024501faa1acab8
DTSTAMP:20260422T103502Z
SUMMARY:Beth Emeth presents:  Chol Hamoed Pesach with Toronto Jewish Chorus
  2024
DESCRIPTION:UJA Federation of Greater Toronto\nJewish Toronto Calendar\nhtt
 ps://jewishtoronto.com/calendar/beth-emeth-presents--chol-hamoed-pesach-wi
 th-toronto-jewish-chorus-2024-1712158223\n\nBeth Emeth&#39\;s Music Commit
 tee presents: Chol Hamoed Pesach with Toronto Jewish Chorus 2024
DTSTART;TZID=America/Toronto:20240425T193000
DTEND;TZID=America/Toronto:20240425T210000
END:VEVENT
END:VCALENDAR
