BEGIN:VCALENDAR
PRODID:-//eluceo/ical//2.0/EN
VERSION:2.0
CALSCALE:GREGORIAN
BEGIN:VEVENT
UID:6664048d4ed8d6e017971f689d6ca200
DTSTAMP:20260423T064832Z
SUMMARY:Beth Emeth  presents: Common Sense is UnCommon.. Now What?
DESCRIPTION:UJA Federation of Greater Toronto\nJewish Toronto Calendar\nhtt
 ps://jewishtoronto.com/calendar/beth-emeth--presents-common-sense-is-uncom
 mon-now-what-1683747716\n\nJoin us IN PERSON for an energizing morning tha
 t will comfort\, delight\, and inspire! Author Anne Balaban will share per
 sonal moments and stories about people that have enriched her life during 
 these unique and challenging times.\n\nAnne Balaban is the author of "Comm
 on Sense is Uncommon"\, speaker\, educator and award recipient from the Br
 illiant Minded Women of Canada. Recognized as an international expert in h
 uman potential.
DTSTART;TZID=America/Toronto:20230611T103000
DTEND;TZID=America/Toronto:20230611T121500
END:VEVENT
END:VCALENDAR
