BEGIN:VCALENDAR
PRODID:-//eluceo/ical//2.0/EN
VERSION:2.0
CALSCALE:GREGORIAN
BEGIN:VEVENT
UID:3c1c5e60e675a3ff9a22321e4fe2936b
DTSTAMP:20260420T165403Z
SUMMARY:Beth David Megillah Reading and Carnival
DESCRIPTION:UJA Federation of Greater Toronto\nJewish Toronto Calendar\nhtt
 ps://jewishtoronto.com/calendar/beth-david-megillah-reading-and-carnival-1
 709750614\n\nBeth David Purim Carnival 2024! Hot dogs\, popcorn\, cotton c
 andy\, Inflatables\, costume contests and more!
DTSTART;TZID=America/Toronto:20240323T200000
DTEND;TZID=America/Toronto:20240323T230000
END:VEVENT
END:VCALENDAR
