BEGIN:VCALENDAR
PRODID:-//eluceo/ical//2.0/EN
VERSION:2.0
CALSCALE:GREGORIAN
BEGIN:VEVENT
UID:840edbd3f2b73aae12d4e7c263212585
DTSTAMP:20260423T071059Z
SUMMARY:Bereavement Support Group
DESCRIPTION:UJA Federation of Greater Toronto\nJewish Toronto Calendar\nhtt
 ps://jewishtoronto.com/calendar/bereavement-support-group-1669380338\n\nTh
 e Bereavement Support Group offers participants an opportunity to normaliz
 e and validate their experience of grief with their peers. Strategies will
  be shared in an atmosphere of compassion and acceptance.\nIf interested\,
  please send an email to: ckoven@circleofcare.com and include your telepho
 ne number.
DTSTART;TZID=America/Toronto:20230201T133000
DTEND;TZID=America/Toronto:20230322T133000
END:VEVENT
END:VCALENDAR
