BEGIN:VCALENDAR
PRODID:-//eluceo/ical//2.0/EN
VERSION:2.0
CALSCALE:GREGORIAN
BEGIN:VEVENT
UID:700696b715725c9e4131807bf9f56dc3
DTSTAMP:20260420T165311Z
SUMMARY:Ben-Gurion University Canada Toronto - Mega Gala Event
DESCRIPTION:UJA Federation of Greater Toronto\nJewish Toronto Calendar\nhtt
 ps://jewishtoronto.com/calendar/ben-gurion-university-canada-toronto---meg
 a-gala-event-1675608308\n\nThis is BGU Canada Toronto&#39\;s annual Mega G
 ala Event\,
DTSTART;TZID=America/Toronto:20231203T173000
DTEND;TZID=America/Toronto:20231203T213000
END:VEVENT
END:VCALENDAR
