BEGIN:VCALENDAR
PRODID:-//eluceo/ical//2.0/EN
VERSION:2.0
CALSCALE:GREGORIAN
BEGIN:VEVENT
UID:adc98c82b689eff0b25b5ec64d47de08
DTSTAMP:20260420T161354Z
SUMMARY:Beit Rayim Mini Minyan
DESCRIPTION:UJA Federation of Greater Toronto\nJewish Toronto Calendar\nhtt
 ps://jewishtoronto.com/calendar/beit-rayim-mini-minyan-1703180006\n\nA spe
 cial fun and interactive Shabbat Service for kids 6 months to 5 years. Reg
 istration is required. Children must be accompanied by an adult.\nShabbat 
 Service\, Kiddush\, challahs\, and light lunch included. 6 & 7 year olds w
 elcome as helpers!\nTorah parade\, Mini Shabbat service\, interactive stor
 y telling and much more\nNew monthly sessions. January 20\, 2024 February 
 10\, 2024 March 23\, 2024 April 6\, 2024 May 25\, 2024 June 22\, 2024
DTSTART;TZID=America/Toronto:20240120T110000
DTEND;TZID=America/Toronto:20240120T110000
END:VEVENT
END:VCALENDAR
