BEGIN:VCALENDAR
PRODID:-//eluceo/ical//2.0/EN
VERSION:2.0
CALSCALE:GREGORIAN
BEGIN:VEVENT
UID:6bedaea050ab55405d13c464eeedd7eb
DTSTAMP:20260425T205938Z
SUMMARY:Becoming Chava & Fiddler's Journey to the Big Screen
DESCRIPTION:UJA Federation of Greater Toronto\nJewish Toronto Calendar\nhtt
 ps://jewishtoronto.com/calendar/becoming-chava--fiddlers-journey-to-the-bi
 g-screen-1669152021\n\nA special evening with Neva Small\, who plays Chava
 \, the third daughter in the movie Fiddler on the Roof. Neva will talk abo
 ut her experience in the movie and share inside stories. In addition\, we 
 will screen the film\, Fiddler’s Journey to the Big Screen\, the unusual
  and untold story of Norman Jewison’s quest to bring Fiddler on the Roof
  to the big screen. Jeff Goldblum narrates the behind-the-scenes examinati
 on of “the most powerful musical ever made.
DTSTART;TZID=America/Toronto:20221201T190000
DTEND;TZID=America/Toronto:20221201T210000
END:VEVENT
END:VCALENDAR
