BEGIN:VCALENDAR
PRODID:-//eluceo/ical//2.0/EN
VERSION:2.0
CALSCALE:GREGORIAN
BEGIN:VEVENT
UID:9f5ff2f40d994bae3b8b008b3239db95
DTSTAMP:20260423T082248Z
SUMMARY:Baycrest Real Estate Group event
DESCRIPTION:UJA Federation of Greater Toronto\nJewish Toronto Calendar\nhtt
 ps://jewishtoronto.com/calendar/baycrest-real-estate-group-event-168737448
 5\n\nAn event for members of the Baycrest Real Estate Group
DTSTART;TZID=America/Toronto:20231115T183000
DTEND;TZID=America/Toronto:20231115T210000
END:VEVENT
END:VCALENDAR
