BEGIN:VCALENDAR
PRODID:-//eluceo/ical//2.0/EN
VERSION:2.0
CALSCALE:GREGORIAN
BEGIN:VEVENT
UID:e189ebf394166ae0a2f5d93b4b95dd74
DTSTAMP:20260422T225049Z
SUMMARY:Baycrest Pro-Am Hockey Tournament for Alzheimer's
DESCRIPTION:UJA Federation of Greater Toronto\nJewish Toronto Calendar\nhtt
 ps://jewishtoronto.com/calendar/baycrest-pro-am-hockey-tournament-for-alzh
 eimers-1663611081\n\nBaycrest&#039\;s Pro-Am Hockey Tournament for Alzheim
 er&#039\;s will begin and top fundraiser will play a minimum of three game
 s with their chosen NHLA or Team Canada&#039\;s Women&#039\;s Hockey Leagu
 e player.
DTSTART;TZID=America/Toronto:20230505T070000
DTEND;TZID=America/Toronto:20230505T193000
END:VEVENT
END:VCALENDAR
