BEGIN:VCALENDAR
PRODID:-//eluceo/ical//2.0/EN
VERSION:2.0
CALSCALE:GREGORIAN
BEGIN:VEVENT
UID:fd7c8030ca1e3df8e70025db540fe4e0
DTSTAMP:20260421T030929Z
SUMMARY:Baycrest Event
DESCRIPTION:UJA Federation of Greater Toronto\nJewish Toronto Calendar\nhtt
 ps://jewishtoronto.com/calendar/baycrest-event\n\nA Baycrest cultivation e
 vent. 
DTSTART;TZID=America/Toronto:20230921T180000
DTEND;TZID=America/Toronto:20230921T220000
END:VEVENT
END:VCALENDAR
