BEGIN:VCALENDAR
PRODID:-//eluceo/ical//2.0/EN
VERSION:2.0
CALSCALE:GREGORIAN
BEGIN:VEVENT
UID:2dd722ebdc0dd07fde819166836eb3e5
DTSTAMP:20260421T145714Z
SUMMARY:Baycrest - Bubby's Blooms Rosh Hashanah Drive-Thru Flower Sale
DESCRIPTION:UJA Federation of Greater Toronto\nJewish Toronto Calendar\nhtt
 ps://jewishtoronto.com/calendar/baycrest---bubbys-blooms-rosh-hashanah-dri
 ve-thru-flower-sale-1692891189\n\nFriday\, September 15 from 9 a.m. to 1 p
 .m.\, Bubby’s Blooms invites you to join us for our Rosh Hashanah Flower
  Sale located outside Baycrest at the Kimel entrance.\n\nPre-order a beaut
 iful bouquet for $20 and/or donate any amount at baycrestfoundation.org/bu
 bbysblooms\nPlace your orders by September 14\, 2023.\n\nThis flower sale 
 honours the memories of Bubby Rachel Krybus z”l and Bubby Bess Fishman z
 ”l\, and all bubbies who have shared their never-ending love with us.\n\
 n100% of all proc...
DTSTART;TZID=America/Toronto:20230915T090000
DTEND;TZID=America/Toronto:20230915T130000
END:VEVENT
END:VCALENDAR
