BEGIN:VCALENDAR
PRODID:-//eluceo/ical//2.0/EN
VERSION:2.0
CALSCALE:GREGORIAN
BEGIN:VEVENT
UID:ce67256dbe5f31d23dd21e2aea4857e1
DTSTAMP:20260420T040204Z
SUMMARY:Baycrest - Bubby's Blooms Passover Drive-Thru Flower Sale
DESCRIPTION:UJA Federation of Greater Toronto\nJewish Toronto Calendar\nhtt
 ps://jewishtoronto.com/calendar/baycrest---bubbys-blooms-passover-drive-th
 ru-flower-sale-1709314138\n\nMonday\, April 22 from 9 a.m. to 1 p.m.\, Bub
 by’s Blooms invites you to join us for our Passover Flower Sale located 
 outside Baycrest at the Kimel entrance.\n\nPre-order a beautiful bouquet f
 or $20 and/or donate any amount at baycrestfoundation.org/bubbysblooms\nPl
 ace your orders by April 19\, 2024.\n\nThis flower sale honours the memori
 es of Bubby Rachel Krybus z”l and Zaidy David Rawa z”l\, and all bubbi
 es who have shared their never-ending love with us.\n\n100% of all proceed
 s support Ba...
DTSTART;TZID=America/Toronto:20240422T090000
DTEND;TZID=America/Toronto:20240422T130000
END:VEVENT
END:VCALENDAR
