BEGIN:VCALENDAR
PRODID:-//eluceo/ical//2.0/EN
VERSION:2.0
CALSCALE:GREGORIAN
BEGIN:VEVENT
UID:20e194ad0472546ce572ead983d80ffa
DTSTAMP:20260422T153731Z
SUMMARY:Basic Judaism Course\, on ZOOM
DESCRIPTION:UJA Federation of Greater Toronto\nJewish Toronto Calendar\nhtt
 ps://jewishtoronto.com/calendar/basic-judaism-course-on-zoom-1678828046\n\
 nKick-start your Jewish journey\, or catch up on what you missed or forgot
 \, this class is a great place to learn as an adult the why’s and how’
 s of a Jewish life. Holidays\, lifecycle\, and basic Reform Jewish philoso
 phy.Basic Judaism\, taught by Dr. Ira Schweitzer\, Reform Jewish Educator6
  weeks\, Tuesday nights\, 7:30 PM – May 2\, 9\, 16\, 23\, 30 – June 6.
  The 90 minute class is on Zoom. . Dr. Ira Schweitzer has retired from his
  position of 24 years as Director of Education at Temple Sinai of ...
DTSTART;TZID=America/Toronto:20230502T193000
DTEND;TZID=America/Toronto:20230502T210000
END:VEVENT
END:VCALENDAR
