BEGIN:VCALENDAR
PRODID:-//eluceo/ical//2.0/EN
VERSION:2.0
CALSCALE:GREGORIAN
BEGIN:VEVENT
UID:e275ea59109e914996ca064bd1405b37
DTSTAMP:20260419T174352Z
SUMMARY:Baby & Me Little Drummer at Adath Israel
DESCRIPTION:UJA Federation of Greater Toronto\nJewish Toronto Calendar\nhtt
 ps://jewishtoronto.com/calendar/baby-me-little-drummer-at-adath-israel\n\n
 Baby & Me Little Drummer at Adath Israel
DTSTART;TZID=America/Toronto:20240603T000000
DTEND;TZID=America/Toronto:20240603T235959
END:VEVENT
END:VCALENDAR
