BEGIN:VCALENDAR
PRODID:-//eluceo/ical//2.0/EN
VERSION:2.0
CALSCALE:GREGORIAN
BEGIN:VEVENT
UID:3ba33de9b5c238a4482ad3c500810aae
DTSTAMP:20260423T015603Z
SUMMARY:Babies\, Blessings and Shabbat Fun!
DESCRIPTION:UJA Federation of Greater Toronto\nJewish Toronto Calendar\nhtt
 ps://jewishtoronto.com/calendar/babies-blessings-and-shabbat-fun-167388190
 4\n\nJoin us at Beth Tzedec on Fridays as we welcome Shabbat with a 45-min
 ute music class featuring Shabbat songs and blessings\, ẖallah\, grape j
 uice and lots of fun. We are pleased to partner with L&#039\;Dance Classes
  for this special weekly experience for children up to 18 months old\, acc
 ompanied by an adult caregiver.\n\nThe Winter 2023 term runs from January 
 20 through March 24.  Spaces are limited and registration is required at..
 .
DTSTART;TZID=America/Toronto:20230120T111500
DTEND;TZID=America/Toronto:20230120T120000
END:VEVENT
END:VCALENDAR
