BEGIN:VCALENDAR
PRODID:-//eluceo/ical//2.0/EN
VERSION:2.0
CALSCALE:GREGORIAN
BEGIN:VEVENT
UID:189797fc4748d9b84325b834364fc4a5
DTSTAMP:20260425T134548Z
SUMMARY:AWEsome and WONDERful Tot Shabbat
DESCRIPTION:UJA Federation of Greater Toronto\nJewish Toronto Calendar\nhtt
 ps://jewishtoronto.com/calendar/awesome-and-wonderful-tot-shabbat-16817593
 56\n\nFridays 10:00 to 11:00 am\nRuns until June 9 (no class May 26)\nRegi
 ster in advance\n$90 for 10-week session - prorated fees available
DTSTART;TZID=America/Toronto:20230421T100000
DTEND;TZID=America/Toronto:20230421T110000
END:VEVENT
END:VCALENDAR
