BEGIN:VCALENDAR
PRODID:-//eluceo/ical//2.0/EN
VERSION:2.0
CALSCALE:GREGORIAN
BEGIN:VEVENT
UID:ceb495d0a48a0f52cfaa9c129ee9ff0a
DTSTAMP:20260422T101148Z
SUMMARY:ASI-Canada & CZCA Annual Event
DESCRIPTION:UJA Federation of Greater Toronto\nJewish Toronto Calendar\nhtt
 ps://jewishtoronto.com/calendar/asi-canada--czca-annual-event-1667932931\n
 \nASI-Canada & CZCA Annual Event
DTSTART;TZID=America/Toronto:20231019T170000
DTEND;TZID=America/Toronto:20231019T220000
END:VEVENT
END:VCALENDAR
