BEGIN:VCALENDAR
PRODID:-//eluceo/ical//2.0/EN
VERSION:2.0
CALSCALE:GREGORIAN
BEGIN:VEVENT
UID:d37900684a0bfc3d9bd77f54256e904c
DTSTAMP:20260420T213137Z
SUMMARY:Antisemitism Face IT Fight IT Conference
DESCRIPTION:UJA Federation of Greater Toronto\nJewish Toronto Calendar\nhtt
 ps://jewishtoronto.com/calendar/antisemitism-face-it-fight-it-conference\n
 \n2 days //  30+ speakers // 12 panels // 2 networking events // 1 unpre
 cedented face-to-face meeting with representatives of the Canadian governm
 ent on Parliament Hill\n\nPresented by CIJA and the Jewish Federations acr
 oss Canada.\n\nSponsored by Maspik! | JNF Canada\, Fieldgate Families\, an
 d the Azrieli Foundation.\n\nThanks to conference sponsors\, subsidies are
  available for two-day attendance. Contact CIJA or your local Federation t
 o learn more. Group hotel rates start at $250 CAD plus tax...
DTSTART;TZID=America/Toronto:20231016T000000
DTEND;TZID=America/Toronto:20231017T235959
END:VEVENT
END:VCALENDAR
