BEGIN:VCALENDAR
PRODID:-//eluceo/ical//2.0/EN
VERSION:2.0
CALSCALE:GREGORIAN
BEGIN:VEVENT
UID:72975af0c5e9f16e6d881c9378aa0d89
DTSTAMP:20260421T130156Z
SUMMARY:An Evening with Noa Tishby: StandWithUs Canada's 10th Anniversary G
 ala
DESCRIPTION:UJA Federation of Greater Toronto\nJewish Toronto Calendar\nhtt
 ps://jewishtoronto.com/calendar/an-evening-with-noa-tishby-standwithus-can
 adas-10th-anniversary-gala-1679596096\n\nPlease join us for An Evening wit
 h Noa Tishby to celebrate the 10th anniversary of StandWithUs Canada. Isra
 el&#39\;s Special Envoy for Combating Antisemitism and the Delegitimizatio
 n of Israel will be addressing those exact topics\, specifically the way i
 n which they are impacting Diaspora Jews\, and what we can be done.\n\nTic
 kets will be available in the months prior to the event. In the meantime\,
  you may contact JesseP@StandWithUs.com for more information!
DTSTART;TZID=America/Toronto:20231004T170000
DTEND;TZID=America/Toronto:20231004T220000
END:VEVENT
END:VCALENDAR
