BEGIN:VCALENDAR
PRODID:-//eluceo/ical//2.0/EN
VERSION:2.0
CALSCALE:GREGORIAN
BEGIN:VEVENT
UID:89211fd1880a032c1c1016fce86e9cfe
DTSTAMP:20260420T194527Z
SUMMARY:An Evening With Modi
DESCRIPTION:UJA Federation of Greater Toronto\nJewish Toronto Calendar\nhtt
 ps://jewishtoronto.com/calendar/an-evening-with-modi-1713382699\n\nAn Even
 ing with Modi the comedian
DTSTART;TZID=America/Toronto:20240926T190000
DTEND;TZID=America/Toronto:20240926T230000
END:VEVENT
END:VCALENDAR
