BEGIN:VCALENDAR
PRODID:-//eluceo/ical//2.0/EN
VERSION:2.0
CALSCALE:GREGORIAN
BEGIN:VEVENT
UID:960a41c23bc3358a36f9d9d6895ecb4a
DTSTAMP:20260420T035708Z
SUMMARY:Amy-Jill Levine: Biblical Roots of Antisemitism Webinar
DESCRIPTION:UJA Federation of Greater Toronto\nJewish Toronto Calendar\nhtt
 ps://jewishtoronto.com/calendar/amy-jill-levine-biblical-roots-of-antisemi
 tism-webinar-1705949931\n\nThe event is presented by the Christian-Jewish 
 Dialogue of Toronto. While preserving the unique relationship between Chri
 stians and Jews\, the Board of the CJDT fosters dialogue between many fait
 h communities. The unique and deep history of the CJDT has led to developi
 ng projects which utilize faith-based and Indigenous insights and values\,
  strengthened by contributions from a wide range of additional fields and 
 disciplines\, to address issues of common social concern.
DTSTART;TZID=America/Toronto:20240128T160000
DTEND;TZID=America/Toronto:20240128T180000
END:VEVENT
END:VCALENDAR
