BEGIN:VCALENDAR
PRODID:-//eluceo/ical//2.0/EN
VERSION:2.0
CALSCALE:GREGORIAN
BEGIN:VEVENT
UID:a7c6f3cb75cbbbbeba7ff603407cd47b
DTSTAMP:20260425T163527Z
SUMMARY:Am Zu Ga'Alta: A Musical Kabbalat Shabbat
DESCRIPTION:UJA Federation of Greater Toronto\nJewish Toronto Calendar\nhtt
 ps://jewishtoronto.com/calendar/am-zu-gaalta-a-musical-kabbalat-shabbat-16
 75187877\n\nJoin Cantor Sidney Ezer\, choir director Asher Farber and The 
 HarmonEzers for our Shabbat Shirah Musical Participatory Service presente
 d in honour of Israel’s 75th birthday\, occurring this year in conjuncti
 on with Refugee Awareness Shabbat. The Service will feature music from var
 ious world Jewish communities whose waves of immigration over the years he
 lped define and shape the nation that Israel has become.\n\nEveryone is we
 lcome. Join us in person at Beth Tzedec or via livestream at...
DTSTART;TZID=America/Toronto:20230203T180000
DTEND;TZID=America/Toronto:20230203T190000
END:VEVENT
END:VCALENDAR
