BEGIN:VCALENDAR
PRODID:-//eluceo/ical//2.0/EN
VERSION:2.0
CALSCALE:GREGORIAN
BEGIN:VEVENT
UID:4673b8882403608268451f9aab506f82
DTSTAMP:20260422T220022Z
SUMMARY:Alpha Omega Community Security Webinar
DESCRIPTION:UJA Federation of Greater Toronto\nJewish Toronto Calendar\nhtt
 ps://jewishtoronto.com/calendar/alpha-omega-community-security-webinar\n\n
 Community Security Webinar with Alpha Omega. 
DTSTART;TZID=America/Toronto:20230327T193000
DTEND;TZID=America/Toronto:20230327T203000
END:VEVENT
END:VCALENDAR
