BEGIN:VCALENDAR
PRODID:-//eluceo/ical//2.0/EN
VERSION:2.0
CALSCALE:GREGORIAN
BEGIN:VEVENT
UID:16302d1f70948ec5ab3be21627e94675
DTSTAMP:20260421T040339Z
SUMMARY:ALLERJAM
DESCRIPTION:UJA Federation of Greater Toronto\nJewish Toronto Calendar\nhtt
 ps://jewishtoronto.com/calendar/allerjam-1691626092\n\nThe Event\nTHE EVEN
 T WILL SHOWCASE A ONE OF A KIND PARTY COMPLETE WITH:\nDJS\nDANCERS\nCELEBR
 ITY GUESTS\nCOMMUNITY MARKETPLACE where vendors can come and advertise the
 ir allergy friendly products and services.
DTSTART;TZID=America/Toronto:20231015T110000
DTEND;TZID=America/Toronto:20231015T130000
END:VEVENT
END:VCALENDAR
