BEGIN:VCALENDAR
PRODID:-//eluceo/ical//2.0/EN
VERSION:2.0
CALSCALE:GREGORIAN
BEGIN:VEVENT
UID:b0389101eb70b60a90326a56a9ed2a6a
DTSTAMP:20260420T194532Z
SUMMARY:ALCCA Fundraising Event
DESCRIPTION:UJA Federation of Greater Toronto\nJewish Toronto Calendar\nhtt
 ps://jewishtoronto.com/calendar/alcca-fundraising-event-1751305323\n\nAlli
 ance of Canadians Combating Antisemitism Fundraising Event.\n\n\n 
DTSTART;TZID=America/Toronto:20250914T180000
DTEND;TZID=America/Toronto:20250914T210000
END:VEVENT
END:VCALENDAR
