BEGIN:VCALENDAR
PRODID:-//eluceo/ical//2.0/EN
VERSION:2.0
CALSCALE:GREGORIAN
BEGIN:VEVENT
UID:0ceca36cfd7675c9e4d95e50e350afac
DTSTAMP:20260423T032648Z
SUMMARY:Adult Education Lecture Series
DESCRIPTION:UJA Federation of Greater Toronto\nJewish Toronto Calendar\nhtt
 ps://jewishtoronto.com/calendar/adult-education-lecture-series-1681494452\
 n\nThe Forgotten Army - Sunday April 23rd - 1:00 PM - Jacobs personal stor
 y as the only surviving prisoner.  You&#039\;ll hear this one of a kind ex
 perience.  Through the jungles of Burma and Thailand in 1979.  How he was 
 arrested.  Why he was the only prisoner to survive.
DTSTART;TZID=America/Toronto:20230423T130000
DTEND;TZID=America/Toronto:20230423T170000
END:VEVENT
END:VCALENDAR
