BEGIN:VCALENDAR
PRODID:-//eluceo/ical//2.0/EN
VERSION:2.0
CALSCALE:GREGORIAN
BEGIN:VEVENT
UID:a57c195b491f9413d40733e251448411
DTSTAMP:20260423T011308Z
SUMMARY:Abraham Heschel: Spiritual Grandeur & Human Dignity with Rabbi Fryd
 man-Kohl
DESCRIPTION:UJA Federation of Greater Toronto\nJewish Toronto Calendar\nhtt
 ps://jewishtoronto.com/calendar/abraham-heschel-spiritual-grandeur--human-
 dignity-with-rabbi-frydman-kohl-1672348925\n\nOn the 50th anniversary of R
 abbi Heschel’s death\, we will examine major moments in his life story\,
  explore the breadth of his theology\, and  consider his pursuit of social
  justice and interfaith dignity. \n\nRav Baruch was one of Rabbi Heschel
 ’s last students. \n\nThis class will be offered by Zoom only. You can r
 egister for this class here: https://bethtzedectoronto.shulcloud.com/form/
 heschel-class-rav-baruch-2023.html
DTSTART;TZID=America/Toronto:20230104T193000
DTEND;TZID=America/Toronto:20230104T204500
END:VEVENT
END:VCALENDAR
