BEGIN:VCALENDAR
PRODID:-//eluceo/ical//2.0/EN
VERSION:2.0
CALSCALE:GREGORIAN
BEGIN:VEVENT
UID:06d634fa9fbb71c2dd46086bd9de453d
DTSTAMP:20260425T205934Z
SUMMARY:A Work of Heart - National Online Art Auction Supporting Tiny Heart
 s
DESCRIPTION:UJA Federation of Greater Toronto\nJewish Toronto Calendar\nhtt
 ps://jewishtoronto.com/calendar/a-work-of-heart---national-online-art-auct
 ion-supporting-tiny-hearts-1673639974\n\nCHW will be hosting a National On
 line Art Auction – “A Work of Heart” in February 2023 in support of 
 the state-of-the-art Pediatric Cardiac Critical Care Unit (PCCCU) at Hadas
 sah Hospital\, Ein Kerem. It is the only one of its kind in Jerusalem. For
  these infants\, precise diagnoses and immediate\, advanced treatments are
  critical. The PCCCU will save lives\, and keep the tiniest\, most fragile
  hearts pumping strong.
DTSTART;TZID=America/Toronto:20230223T170000
DTEND;TZID=America/Toronto:20230228T220000
END:VEVENT
END:VCALENDAR
